BEGIN:VCALENDAR
VERSION:2.0
PRODID:https://github.com/derhansen/sf_event_mgt
METHOD:PUBLISH
BEGIN:VEVENT
UID:13886-570@www.maine-et-loire.fr
CLASS: PUBLIC
SUMMARY:Kontact
DESCRIPTION:Six acrobates sans agrès ni filet recherchent public pour spec
 tacle à hautes envolées.
LOCATION:En extérieur
DTSTAMP:20250724T140622Z
DTSTART:20260516T220000Z
DTEND:20260516T220000Z
END:VEVENT
END:VCALENDAR