BEGIN:VCALENDAR
VERSION:2.0
PRODID:https://github.com/derhansen/sf_event_mgt
METHOD:PUBLISH
BEGIN:VEVENT
UID:14978-569@www.maine-et-loire.fr
CLASS: PUBLIC
SUMMARY:La Bohème de Puccini - Diva Opera
DESCRIPTION:L’un des opéras les plus joués au monde ! \n\nLa troupe an
 glaise Diva Opera met à l’honneur Giacomo Puccini avec La Bohème, qui 
 raconte l’impossible amour de Mimi et Rodolfo à Paris au tournant des X
 IXe et XXe siècles.
LOCATION:Centre culturel La Loge 
Rue Robert Schuman
La Loge - Beaupréau
49600 Beaupréau-en-Mauges
DTSTAMP:20260126T082955Z
DTSTART:20260604T220000Z
DTEND:20260604T220000Z
END:VEVENT
END:VCALENDAR