BEGIN:VCALENDAR
VERSION:2.0
PRODID:https://github.com/derhansen/sf_event_mgt
METHOD:PUBLISH
BEGIN:VEVENT
UID:15115-569@www.maine-et-loire.fr
CLASS: PUBLIC
SUMMARY:La Boum
DESCRIPTION:Plongez dans l’univers dynamique et festif de La Boum des Bou
 mboxeurs. Une boum où petites et grandes frimousses se retrouvent et se l
 aissent porter sur un groove qui part du hip-hop old school vers du son ne
 w school pour finir sur les dernières trouvailles. Des morceaux funky mai
 s tout aussi catchy.\n\nUn seul mot d’ordre : « Lâcher prise ! ». Cha
 ntez, bougez et participez à des chorégraphies improvisées sur la piste
  de danse en apprenant les bases du hip-hop, le tout dans une ambiance fes
 tive et conviviale.\n\nLaissez-vous embarquer par cette expérience unique
  où toutes les générations se retrouvent pour partager un moment de « 
 clubbing » !
LOCATION:Salle des fêtes de Lasse
22 rue St Férréol
DTSTAMP:20260218T142429Z
DTSTART:20260515T220000Z
DTEND:20260515T220000Z
END:VEVENT
END:VCALENDAR