BEGIN:VCALENDAR
VERSION:2.0
PRODID:https://github.com/derhansen/sf_event_mgt
METHOD:PUBLISH
BEGIN:VEVENT
UID:14244-569@www.maine-et-loire.fr
CLASS: PUBLIC
SUMMARY:La danse, le jazz et Mattox - Cie Émoi
DESCRIPTION:En amont du spectacle "Matt et moi" programmé le mardi 28 avri
 l, venez découvrir l’histoire de la danse jazz et l’apport du travail
  de Mattox dans le paysage chorégraphique des années 20 à nos jours.\n\
 nEn passant par les références les plus représentatives comme les films
  avec Marilyn Monroe, les comédies musicales et les plateaux TV aux État
 s-Unis ainsi que les vidéos des créations des années 70 et 80, Carole B
 ordes remet dans leur contexte les différents apports de Matt Mattox en t
 ant qu’interprète, chorégraphe et pédagogue.\n\nUn moment participati
 f permet même de rendre ces moments d’histoire vivants et d’expérime
 nter depuis son fauteuil.
LOCATION:Théâtre Philippe Noiret
Place des Fontaines
DTSTAMP:20260105T102030Z
DTSTART:20260425T220000Z
DTEND:20260425T220000Z
END:VEVENT
END:VCALENDAR