BEGIN:VCALENDAR
VERSION:2.0
PRODID:https://github.com/derhansen/sf_event_mgt
METHOD:PUBLISH
BEGIN:VEVENT
UID:13880-570@www.maine-et-loire.fr
CLASS: PUBLIC
SUMMARY:La fabuleuse histoire de Bazarkus
DESCRIPTION:Faisant dialoguer jonglage, acrobatie et danse contact, Sylvèr
 e Lamotte signe une chorégraphie intimiste et poétique pour les petits.
LOCATION:Salle communale
DTSTAMP:20251021T130041Z
DTSTART:20260425T220000Z
DTEND:20260425T220000Z
END:VEVENT
END:VCALENDAR