BEGIN:VCALENDAR
VERSION:2.0
PRODID:https://github.com/derhansen/sf_event_mgt
METHOD:PUBLISH
BEGIN:VEVENT
UID:14254-570@www.maine-et-loire.fr
CLASS: PUBLIC
SUMMARY:La ferme des animaux
DESCRIPTION:En associant théâtre, objets et musique, Spectabilis souhaite
  apporter un nouvel éclairage sur l’histoire des révolutions passées 
 et à venir.
LOCATION:L'Odyssée
19 Bis Rue de Bellevue
DTSTAMP:20260106T150025Z
DTSTART:20260519T220000Z
DTEND:20260519T220000Z
END:VEVENT
END:VCALENDAR