BEGIN:VCALENDAR
VERSION:2.0
PRODID:https://github.com/derhansen/sf_event_mgt
METHOD:PUBLISH
BEGIN:VEVENT
UID:14790-611@www.maine-et-loire.fr
CLASS: PUBLIC
SUMMARY:La forêt par les sens
DESCRIPTION:Dans le cadre des Rendez-vous nature 2026.\n\nÀ l'occasion des
  Nuits des forêts, venez découvrir la forêt au ralenti. Laissez vous gu
 ider et prenez le temps d'observer, d'écouter, de sentir, de toucher, et 
 de goûter la forêt.
LOCATION:Parking de l'étang de Joreau
DTSTAMP:20260209T153241Z
DTSTART:20260621T115539Z
DTEND:20260621T115539Z
END:VEVENT
END:VCALENDAR