BEGIN:VCALENDAR
VERSION:2.0
PRODID:https://github.com/derhansen/sf_event_mgt
METHOD:PUBLISH
BEGIN:VEVENT
UID:15015-569@www.maine-et-loire.fr
CLASS: PUBLIC
SUMMARY:La Grammoirienne
DESCRIPTION:La Grammoirienne est une course qui fêtera sa 35 édition qui 
 contribue à l’animation de la ville du Plessis Grammoire dans le parc d
 e La Mairie\n\nElle se déroulera le 30 mai 2026 et propose le mile du mai
 l, les courses à l’Americiane et deux courses à pied sur route de 5 et
  10 kms, ouvertes à tous et toutes. Nos courses sont toutes inclusuves.\n
 \nElle propose aussi des parcours enfants (150 enfants)\n\nUne épreuve qu
 i est unique dans le grand et qui crée un vrai intérêt auprès des athl
 ètes : les courses à l’américaine. Et la 4eme édition du mile sur ro
 ute qui partira de la place du Mail.\n\nUn évènement un espace d’écha
 nge entre coureurs et spectateurs, un lieu de convivialité et de vie soci
 ale.
LOCATION:Parc de La Mairie
DTSTAMP:20260130T152400Z
DTSTART:20260529T220000Z
DTEND:20260529T220000Z
END:VEVENT
END:VCALENDAR