BEGIN:VCALENDAR
VERSION:2.0
PRODID:https://github.com/derhansen/sf_event_mgt
METHOD:PUBLISH
BEGIN:VEVENT
UID:15060-1587@www.maine-et-loire.fr
CLASS: PUBLIC
SUMMARY:La guerre de Vendée en Anjou
DESCRIPTION:La conférence sera animée par Anne Rolland, professeur d'hist
 oire moderne à l'Université catholique de l'Ouest et spécialiste de la 
 guerre de Vendée.
LOCATION:Archives départementales de Maine-et-Loire 
106, rue de Frémur
DTSTAMP:20260203T135600Z
DTSTART:20260929T160000Z
DTEND:20260929T180000Z
END:VEVENT
END:VCALENDAR