BEGIN:VCALENDAR
VERSION:2.0
PRODID:https://github.com/derhansen/sf_event_mgt
METHOD:PUBLISH
BEGIN:VEVENT
UID:14902-611@www.maine-et-loire.fr
CLASS: PUBLIC
SUMMARY:La mystérieuse salamandre
DESCRIPTION:Dans le cadre des Rendez-vous nature 2026.\n\nÉquipés d'une l
 ampe de poche, parcourez les chemins de l'étang Saint-Nicolas pour décou
 vrir la salamandre. Cet animal mystique sort les nuits humides d'automne d
 ans notre forêt pour se reproduire. Cet amphibien n'aura plus de secret p
 our vous.  
LOCATION:Allée de la Haloperie
DTSTAMP:20260209T154528Z
DTSTART:20261016T115540Z
DTEND:20261016T115540Z
END:VEVENT
END:VCALENDAR