BEGIN:VCALENDAR
VERSION:2.0
PRODID:https://github.com/derhansen/sf_event_mgt
METHOD:PUBLISH
BEGIN:VEVENT
UID:14299-569@www.maine-et-loire.fr
CLASS: PUBLIC
SUMMARY:La Nuit de lâ€™Orientation, pour sâ€™orienter sans stress
DESCRIPTION:Face Ã  la diversitÃ© des mÃ©tiers et Ã  la multitude des forma
 tions proposÃ©es, le choix de lâ€™orientation est difficile et souvent ang
 oissant pour les jeunes et leur famille.\n\nAfin d'accompagner les collÃ©g
 iens, lycÃ©ens, Ã©tudiants, informer leurs parents, mais aussi accompagner
  les publics en reconversion ou en rÃ©orientation, les Chambres de Commerc
 e et dâ€™Industrie organisent un Ã©vÃ©nement national : Â« La Nuit de lâ€™
 Orientation Â».\n\nÃ€ lâ€™occasion de la 13e Ã©dition, la CCI de Maine-et-
 Loire propose un parcours ludique aux visiteurs afin de les aider Ã  rÃ©fl
 Ã©chir sur leur avenir, leur profil et leurs motivations en rencontrant de
 s conseillers en orientation, des spÃ©cialistes de la dÃ©couverte de soi e
 t des professionnels de lâ€™entreprise qui viennent Ã©changer et parler li
 brement de leur parcours et de leur mÃ©tierâ€¦\n\nUn parcours original en 
 5 espaces :\n\n1. Je me teste\n\nPlus de 1 200 mÃ©tiers reprÃ©sentÃ©s dans
  un test interactif dâ€™orientation, pour mieux se connaÃ®tre, analyser se
 s compÃ©tences/aptitudes et orienter ses recherches\n\n2. Je me questionne
 \n\nDes ateliers animÃ©s par des partenaires : photolangage, mieux se conn
 aÃ®tre pour rÃ©flÃ©chir Ã  son projet dâ€™orientation, rencontre avec des 
 Ã©tudiants qui tÃ©moignent de leur parcours scolaire\n\n... et deux confÃ©
 rences Ã  destination des jeunes et des parents :\n\n> 18 h : Parents, acc
 ompagner le projet dâ€™orientation de votre enfant et trouver sa place\n\n
 > 19 h : Les mÃ©tiers qui recrutent aujourdâ€™hui et demainÂ \n\n3. Je pre
 nds du temps pour moi\n\nTrouver son orientation c'est aussi savoir se prÃ
 ©parer par le biais d'exercice de relaxation mais aussi de se valoriser pa
 r l'image que l'on projette : photo cv, ateliers make-up/mise en beautÃ© e
 t relooking\n\n4. Je rencontre des professionnels mÃ©tiers\n\nDes Ã©change
 s de 10 Ã  15 minutes avec des professionnels bÃ©nÃ©voles qui feront dÃ©co
 uvrir leurs mÃ©tiers au quotidien et leurs parcours.\n\nTout au long du pa
 rcours au sein de La Nuit de l'Orientation, des animations Â« dÃ©couverte 
 des mÃ©tiers Â» Ã  travers la rÃ©alitÃ© augmentÃ©e seront proposÃ©es.\n\n\
 n\n5. Je mâ€™oriente\n\nAvec les partenaires de lâ€™orientation, quel que 
 soit votre situation, rencontrez lâ€™un des organismes : Conseil rÃ©gional
  des Pays de la Loire, CIO, Missions Locales, UniversitÃ© d'Angers, AFPAâ€
 ¦
LOCATION:Campus Pierre Cointreau
132 avenue de Lattre de Tassigny
DTSTAMP:20260109T152848Z
DTSTART:20260129T230000Z
DTEND:20260129T230000Z
END:VEVENT
END:VCALENDAR