BEGIN:VCALENDAR
VERSION:2.0
PRODID:https://github.com/derhansen/sf_event_mgt
METHOD:PUBLISH
BEGIN:VEVENT
UID:14217-570@www.maine-et-loire.fr
CLASS: PUBLIC
SUMMARY:La Renverse
DESCRIPTION:Un gardien de phare découvre le journal de bord d'une navigatr
 ice solitaire. Après en avoir lu les dernières pages, il décide de part
 ir à la recherche de son navire en perdition.
LOCATION:Stade de Cheffes
DTSTAMP:20251230T084214Z
DTSTART:20260529T220000Z
DTEND:20260529T220000Z
END:VEVENT
END:VCALENDAR