BEGIN:VCALENDAR
VERSION:2.0
PRODID:https://github.com/derhansen/sf_event_mgt
METHOD:PUBLISH
BEGIN:VEVENT
UID:15327-569@www.maine-et-loire.fr
CLASS: PUBLIC
SUMMARY:La Turbulente Festival #6
DESCRIPTION:En 2026, le festival revient pour une sixiÃ¨me Ã©dition pleine 
 de surprises.\n\nCette annÃ©e, le festival vous invite Ã  vivre une expÃ©r
 ience artistique encore plus riche et surprenante ! Au programme : trois n
 ouvelles crÃ©ations in situ qui promettent dâ€™Ã©merveiller tous les publi
 cs. Les plus jeunes dÃ©couvriront Yaga, un spectacle de Charlotte Mosser, 
 tandis que Plus ou moins lâ€™infini de ClÃ©mence Weill sâ€™adresse Ã  tous
 . Sans oublier La 45e minute, une crÃ©ation participative oÃ¹ le public de
 vient acteur de lâ€™instant.\n\nPour ouvrir les festivitÃ©s, un concert la
 ncera cette nouvelle Ã©dition, suivi dâ€™une carte blanche confiÃ©e Ã  Hug
 o LattÃ©. Ã€ cette occasion, il imaginera une sÃ©rie dâ€™entresorts origin
 aux â€” bingo dÃ©calÃ©, jeux musicaux et autres surprises participatives â
 €” qui viendront rythmer les week-ends et prolonger le plaisir entre chaqu
 e spectacle.\n\nEt parce que le festival est aussi un moment de partage, l
 aissez-vous tenter entre deux reprÃ©sentations par le traditionnel banquet
  de fouÃ©es, dans une ambiance conviviale et festive. Concerts, jeux et re
 ncontres viendront complÃ©ter cette parenthÃ¨se joyeuse.\n\nUne buvette se
 ra Ã©galement ouverte avant et aprÃ¨s chaque reprÃ©sentation pour prolonge
 r ces moments ensemble.\n\nUn thÃ©Ã¢tre vivant, accessible et rÃ©solument 
 festif vous attendâ€¦
LOCATION:Parc de la Croix-Verte
DTSTAMP:20260423T100735Z
DTSTART:20260626T220000Z
DTEND:20260703T220000Z
END:VEVENT
END:VCALENDAR