BEGIN:VCALENDAR
VERSION:2.0
PRODID:https://github.com/derhansen/sf_event_mgt
METHOD:PUBLISH
BEGIN:VEVENT
UID:14342-569@www.maine-et-loire.fr
CLASS: PUBLIC
SUMMARY:La vie du sol : préparer son terrain pour l'hiver
DESCRIPTION:Animation 123 jardin! de l'association Horizon Bocage\n\nUn sol
  vivant c'est quoi ?\n\nComment fonctionne un sol vivant ?\n\nUn sol vivan
 t résilient face au dérèglement climatique\n\nInscrivez-vous au 07 67 4
 9 03 82 ou par mail à horizonbocage@gmail.com 
LOCATION:Le jardin des Cloîtres 
Chemillé
DTSTAMP:20260120T113259Z
DTSTART:20261023T220000Z
DTEND:20261023T220000Z
END:VEVENT
END:VCALENDAR