BEGIN:VCALENDAR
VERSION:2.0
PRODID:https://github.com/derhansen/sf_event_mgt
METHOD:PUBLISH
BEGIN:VEVENT
UID:14766-611@www.maine-et-loire.fr
CLASS: PUBLIC
SUMMARY:La vie foisonnante de l'Hyrôme
DESCRIPTION:Dans le cadre des Rendez-vous nature 2026.\n\nUne balade immers
 ive au bord de l'Hyrôme nous permettra la découverte des divers habitats
  de la vallée sauvage : prairies inondables, rives boisées, bois et bosq
 uets, coteaux secs et ensoleillés. Chaque milieu accueille une biodiversi
 té spécifique. Tout au long du parcours, un guide naturaliste présenter
 a les diverses espèces faunistiques et floristiques occupant ces habitats
 . Petits ateliers de prélèvement et d'identification agrémenteront la s
 ortie.
LOCATION:16 rue de la Coudraye
DTSTAMP:20260209T152820Z
DTSTART:20260606T115539Z
DTEND:20260606T115539Z
END:VEVENT
END:VCALENDAR