BEGIN:VCALENDAR
VERSION:2.0
PRODID:https://github.com/derhansen/sf_event_mgt
METHOD:PUBLISH
BEGIN:VEVENT
UID:15116-569@www.maine-et-loire.fr
CLASS: PUBLIC
SUMMARY:La vieille malle au fond du grenier
DESCRIPTION:Tout a commencé par une partie de cache-cache, dans la maison 
 biscornue de ma grand-mère, entre les vignes et les champs. On avait le d
 roit d’aller jouer partout, sauf dans la pièce interdite : le grenier. 
 Un vieux mystère trainait là depuis des années.\n\nQuelle ne fut pas ma
  surprise quand j’ai découvert, là, cachée dans la pénombre du greni
 er, une très vieille malle… d’où provenait de drôles de bruits.\n\n
 Et c’est là que tout a commencé…\n\nOu presque ! Car depuis quelques
  temps, une souris a élu domicile dans la malle et y semble fort à son a
 ise… On va tâcher de vous raconter l'histoire quand même !
LOCATION:Salle des fêtes de Genneteil
16 rue de l'Assemblée
DTSTAMP:20260219T082102Z
DTSTART:20261029T230000Z
DTEND:20261029T230000Z
END:VEVENT
END:VCALENDAR