BEGIN:VCALENDAR
VERSION:2.0
PRODID:https://github.com/derhansen/sf_event_mgt
METHOD:PUBLISH
BEGIN:VEVENT
UID:14258-570@www.maine-et-loire.fr
CLASS: PUBLIC
SUMMARY:La Vraie Vie des Pirates !
DESCRIPTION:Sur le navire de Balthazar, un équipage d’infortune sème le
  désordre et le chaos. Ils auraient instauré un nouveau système.On dit 
 qu’on leur devrait la sécurité sociale et les caisses de retraite...
LOCATION:Aire naturelle de la Fontaine de Boisson
DTSTAMP:20260106T150626Z
DTSTART:20260612T220000Z
DTEND:20260612T220000Z
END:VEVENT
END:VCALENDAR