BEGIN:VCALENDAR
VERSION:2.0
PRODID:https://github.com/derhansen/sf_event_mgt
METHOD:PUBLISH
BEGIN:VEVENT
UID:14845-611@www.maine-et-loire.fr
CLASS: PUBLIC
SUMMARY:Lac et rivière
DESCRIPTION:Dans le cadre des Rendez-vous nature 2026.\n\nGrenouille assise
  sur un nénuphar surveille. Oiseaux volent à tire-d’aile. Soudain, un 
 jeune homme se transforme en poisson… que se passe-t-il au bord de l’e
 au ? Des contes de faune et de flore à écouter autour du lac et de sa ri
 vière. À la suite du spectacle un atelier présentera la chaine alimenta
 ire du lac et de la rivière.
LOCATION:Maison de l'environnement
DTSTAMP:20260209T153847Z
DTSTART:20260819T115539Z
DTEND:20260819T115539Z
END:VEVENT
END:VCALENDAR