BEGIN:VCALENDAR
VERSION:2.0
PRODID:https://github.com/derhansen/sf_event_mgt
METHOD:PUBLISH
BEGIN:VEVENT
UID:14325-569@www.maine-et-loire.fr
CLASS: PUBLIC
SUMMARY:L’animal fantôme
DESCRIPTION:Un braconnier rôde… Retrouvez la trace de l’animal menacé
  ! Petits et grands, partez à la recherche d’indices dans le parc, pour
  trouver le nom de cet animal. Profitez d’une visite haute en couleurs, 
 dans une atmosphère chaleureuse et colorée : citrouilles, champignons et
  créatures étranges débarquent au Bioparc... et devinez le poids de la 
 citrouille géante pour gagner une nuit dans un de nos gîtes !
LOCATION:Bioparc de Doué-la-Fontaine
103 Rue de Cholet
DTSTAMP:20260119T114757Z
DTSTART:20261016T220000Z
DTEND:20261031T230000Z
END:VEVENT
END:VCALENDAR