BEGIN:VCALENDAR
VERSION:2.0
PRODID:https://github.com/derhansen/sf_event_mgt
METHOD:PUBLISH
BEGIN:VEVENT
UID:14899-611@www.maine-et-loire.fr
CLASS: PUBLIC
SUMMARY:L’arbre à l’aube de l’automne
DESCRIPTION:Dans le cadre des Rendez-vous nature 2026.\n\nPlongez au cœur 
 de la nature, une véritable immersion parmi les arbres pour découvrir le
 urs incroyables capacités ! Observez les arbres en pleine mutation automn
 ale. Le feuillage se pare de couleurs chatoyantes et les fruits et les gra
 ines sont prêts à se disperser ! Le moment parfait pour mieux comprendr
 e le cycle de vie des arbres et leurs mécanismes d’adaptation. Par la c
 ollecte des fruits et des graines, et grâce au matériel fourni, vous pou
 rrez constituer un propre grainothèque ! Chaque essence rencontrée sera
  l’occasion d’échanger sur ses propriétés, ses usages traditionnels
  et ses particularités, dans une ambiance conviviale et enrichissante. Vo
 us découvrirez également l'importance d’agir en faveur de leur préser
 vation. Cette expérience sensorielle invite chaque participant à poser u
 n regard neuf sur ces arbres et, plus encore, à trouver l’inspiration p
 our agir concrètement en leur faveur. Une aventure enrichissante qui éve
 illera votre curiosité et votre engagement pour la nature !
LOCATION:Lieu communiqué à l'inscription
DTSTAMP:20260216T142614Z
DTSTART:20261010T115540Z
DTEND:20261010T115540Z
END:VEVENT
END:VCALENDAR