BEGIN:VCALENDAR
VERSION:2.0
PRODID:https://github.com/derhansen/sf_event_mgt
METHOD:PUBLISH
BEGIN:VEVENT
UID:14761-611@www.maine-et-loire.fr
CLASS: PUBLIC
SUMMARY:L'arbre endormi
DESCRIPTION:Dans le cadre des Rendez-vous nature 2026.\n\nPlongez dans cett
 e utopie écologique et poétique où la rencontre d'une petite fille et d
 'un arbre va changer le monde ! Un « seul en scène » virevoltant, entre
  théâtre, conte et musique, qui invite à découvrir les pouvoirs incroy
 ables des arbres… et à s’en émerveiller !
LOCATION:Parking communal, face au 2147 Chambiers
DTSTAMP:20260209T152754Z
DTSTART:20260605T115539Z
DTEND:20260605T115539Z
END:VEVENT
END:VCALENDAR