BEGIN:VCALENDAR
VERSION:2.0
PRODID:https://github.com/derhansen/sf_event_mgt
METHOD:PUBLISH
BEGIN:VEVENT
UID:14725-611@www.maine-et-loire.fr
CLASS: PUBLIC
SUMMARY:Lâ€™arbre endormi
DESCRIPTION:Dans le cadre des Rendez-vous nature 2026.\n\nPlongez dans cett
 e utopie Ã©cologique et poÃ©tique oÃ¹ la rencontre dâ€™une petite fille et
  dâ€™un arbre va changer le monde en 2524 ! Un Â« seul en scÃ¨ne Â» virevo
 ltant, entre thÃ©Ã¢tre, conte et musique, qui invite Ã  Ã©couter, Ã  regar
 der la nature... et Ã  sâ€™en Ã©merveiller ! Ce conte est lâ€™occasion dâ€
 ™apprendre tout ce dont un arbre est capable (communication, fonctionnemen
 t, et tout ce quâ€™il offre aux autres espÃ¨ces) mais aussi de sâ€™autoris
 er le rÃªve de vivre avec la biodiversitÃ© et lui permettre de redevenir u
 n Ã©lÃ©ment... naturel !
LOCATION:Jardins de la bibliothÃ¨que-cantine
Blaison-Gohier
DTSTAMP:20260209T152409Z
DTSTART:20260520T115539Z
DTEND:20260520T115539Z
END:VEVENT
END:VCALENDAR