BEGIN:VCALENDAR
VERSION:2.0
PRODID:https://github.com/derhansen/sf_event_mgt
METHOD:PUBLISH
BEGIN:VEVENT
UID:14863-611@www.maine-et-loire.fr
CLASS: PUBLIC
SUMMARY:L'arbre endormi
DESCRIPTION:Dans le cadre des Rendez-vous nature 2026.\n\nNous sommes en 25
 26, les humains vivent dans d'immenses forêts avec les plantes et les ani
 maux sauvages. Villes, villages et supermarchés ont disparus depuis bien 
 longtemps. Mais pour que l'histoire ne se perde pas, une étrange narratri
 ce vient raconter aux enfants comment tout cela à été possible ; quand 
 et comment les humains ont redécouvert le chant des arbres ? Plongez dans
  cette utopie écologique et poétique où la rencontre d’une petite fil
 le et d’un arbre va changer le monde ! Un « seul en scène » virevolta
 nt qui invite à découvrir les pouvoirs incroyables des arbres ... et à 
 s’en émerveiller !
LOCATION:Ferme des coteaux
Saint-Florent-le-Vieil
DTSTAMP:20260209T154144Z
DTSTART:20260827T115540Z
DTEND:20260827T115540Z
END:VEVENT
END:VCALENDAR