BEGIN:VCALENDAR
VERSION:2.0
PRODID:https://github.com/derhansen/sf_event_mgt
METHOD:PUBLISH
BEGIN:VEVENT
UID:14778-611@www.maine-et-loire.fr
CLASS: PUBLIC
SUMMARY:L'art des tisanes
DESCRIPTION:Dans le cadre des Rendez-vous nature 2026.\n\nAu cœur du parc 
 de la Turmelière, une multitude de plantes comestibles aux vertus médici
 nales vous attendent. Venez explorer cet écrin de nature sauvage, idéal 
 à la réalisation de tisanes !
LOCATION:Château de La Turmelière
Liré
DTSTAMP:20260209T153137Z
DTSTART:20260613T115539Z
DTEND:20260613T115539Z
END:VEVENT
END:VCALENDAR