BEGIN:VCALENDAR
VERSION:2.0
PRODID:https://github.com/derhansen/sf_event_mgt
METHOD:PUBLISH
BEGIN:VEVENT
UID:12674-946@www.maine-et-loire.fr
CLASS: PUBLIC
SUMMARY:Laure Adler - COMPLET
DESCRIPTION:COMPLET\n\nFranÃ§oise, Hannah, Simone, Marguerite et les autres
  !\n\nLaure Adler nâ€™a pas 20 ans quand aprÃ¨s mai 68 ,elle dÃ©marre une 
 carriÃ¨re Ã  la radio sur France Culture. Elle est aujourdâ€™hui productri
 ce et animatrice (France 2, France 5, France Inter et France Culture).\n\n
 Elle Ã©dite des beaux livres chez Flammarion Les Femmes qui lisent sont da
 ngereuses et Ã©crit un seul roman mais une vingtaine dâ€™essais et une diz
 aine de biographies qui font toutes rÃ©fÃ©rences : FranÃ§oise Giroud, Marg
 uerite Duras, Hannah Arendt, Simone Weil, Charlotte Perriand.\n\nSon derni
 er livre, La Voix des femmes est un voyage littÃ©raire et historique pour 
 tenter dâ€™Ã©clairer ce que fut Ãªtre femme et ce que veut dire Ãªtre femm
 e aujourdâ€™hui.\n\nÂ« Ce livre est un vagabondage, une balade gÃ©ographiq
 ue, des instants vÃ©cus, des rencontres avec des femmes ordinaires, des en
 quÃªtes dans le milieu associatif. Je suis une vieille blanche hÃ©tÃ©rosex
 uelle dâ€™origine petite bourgeoise, appartenant Ã  un mÃ©tier privilÃ©giÃ
 ©, engagÃ©e Ã  gauche et croyant encore Ã  elle. Autant vous dire que je n
 e suis pas Ã  la mode mais je suis fÃ©ministe et surtout fÃ©ministe. Â».
LOCATION:CollÃ©giale Saint-Martin, 23 rue Saint-Martin
DTSTAMP:20250129T105453Z
DTSTART:20250214T160000Z
DTEND:20250214T155800Z
END:VEVENT
END:VCALENDAR