BEGIN:VCALENDAR
VERSION:2.0
PRODID:https://github.com/derhansen/sf_event_mgt
METHOD:PUBLISH
BEGIN:VEVENT
UID:14711-611@www.maine-et-loire.fr
CLASS: PUBLIC
SUMMARY:Le jardin aux oiseaux
DESCRIPTION:Dans le cadre des Rendez-vous nature 2026.\n\nLes marcheurs com
 mencent leur déambulation en quête de sons, pendant que les chanteurs d'
 oiseaux, accompagnés d'un musicien, sifflent et gazouillent.
LOCATION:Chemin du bois Guillou
Juigné-sur-Loire
DTSTAMP:20260209T152158Z
DTSTART:20260502T115539Z
DTEND:20260502T115539Z
END:VEVENT
END:VCALENDAR