BEGIN:VCALENDAR
VERSION:2.0
PRODID:https://github.com/derhansen/sf_event_mgt
METHOD:PUBLISH
BEGIN:VEVENT
UID:15199-569@www.maine-et-loire.fr
CLASS: PUBLIC
SUMMARY:Le midinettes
DESCRIPTION:Aujourd’hui, dans le centre de la France.\n\nL’usine « Mar
 ilou », l’un des fleurons de la confection de sous-vêtements féminins
 , ferme ses portes. Ses deux cents ouvrières sont brutalement licenciées
 . Bien résolues à en découdre pour défendre leur travail et leur digni
 té, elles décident d’occuper l’usine.\n\nLes midinettes raconte cett
 e épopée de vingt-sept jours, faite de fou-rires et de cris de colère, 
 de désillusions et de bouffées d’espoir. Elles racontent une lutte pou
 r la vie.
LOCATION:Salle des fêtes de Meigné-le-Vicomte
25 rue des Sports
DTSTAMP:20260312T143405Z
DTSTART:20260731T220000Z
DTEND:20260731T220000Z
END:VEVENT
END:VCALENDAR