BEGIN:VCALENDAR
VERSION:2.0
PRODID:https://github.com/derhansen/sf_event_mgt
METHOD:PUBLISH
BEGIN:VEVENT
UID:14798-611@www.maine-et-loire.fr
CLASS: PUBLIC
SUMMARY:Le monde des libellules
DESCRIPTION:Dans le cadre des Rendez-vous nature 2026.\n\nPartez à la déc
 ouverte des libellules et des demoiselles. Qui sont ces drôles d'insectes
  ?\n\nLes enfants doivent obligatoirement être accompagnés par un adulte
 .
LOCATION:Parking Étang des Bretonnières
DTSTAMP:20260209T153325Z
DTSTART:20260707T115539Z
DTEND:20260707T115539Z
END:VEVENT
END:VCALENDAR