BEGIN:VCALENDAR
VERSION:2.0
PRODID:https://github.com/derhansen/sf_event_mgt
METHOD:PUBLISH
BEGIN:VEVENT
UID:11704-609@www.maine-et-loire.fr
CLASS: PUBLIC
SUMMARY:Le passage de la flamme olympique Ã  Angers
DESCRIPTION:Le 28 mai 2024, le DÃ©partement de Maine-et-Loire, labellisÃ© Â
 « Terre de Jeux 2024 Â» et lieu dâ€™entraÃ®nement de plusieurs fÃ©dÃ©ratio
 ns internationales dâ€™Ã©quitation et de tennis de table reÃ§oit pendant u
 ne journÃ©e la flamme olympique. Elle traversera le Maine-et-Loire en 7 Ã©
 tapes mettant en valeur le patrimoine sportif et historique de notre terri
 toire.\n\nLe relais sâ€™Ã©lancera du stade Mikulak au lac de Maine, thÃ©Ã¢
 tre des championnats de France dâ€™AthlÃ©tisme 2024, pour terminer sa cour
 se sur la place de la Rochefoucauld, Â« site de cÃ©lÃ©bration Â». Une haie
  dâ€™honneur attend sur place le dernier Ã©claireur, celui qui allumera la
  symbolique vasque des Jeux olympiques.\n\nLongueur de lâ€™Ã©tape : 6,34 k
 m\n\nPassage de la flamme : Ã  partir de 18h10\n\nAnimations de 15h30 Ã  1
 9h30 â€“ place de la Rochefoucault et de 17h Ã  19h30 â€“ place Michel-Deb
 rÃ©\n\nDe multiples spectacles et activitÃ©s sportives sont prÃ©vus pour l
 'occasion : spectacle aÃ©rien de danse verticale boulevard Foch Ã  18h, vi
 llage sport, santÃ© et parasport sur lâ€™esplanade CÅ“ur de Maine, sports 
 nautiques sur la riviÃ¨re, spectacle hommage Ã  Queen place Michel-DebrÃ©,
  expo photo Ã€ vos marques, prÃªtsâ€¦ DÃ©calez !, dÃ©monstrations de break
 dance et de BMX...\n\nRetrouvez toutes les animations sur le site angers.f
 r\n\nAires de covoiturage\n\nParking relais\n\n 	Ardenne (180 places) - ru
 e Pierre MendÃ¨s-France Ã  AvrillÃ© - station tram AvrillÃ©-Ardenne 	Ã‰lis
 abeth Boselli (300 places) - boulevard Ã‰lisabeth Bosseli Ã  Angers - stat
 ion tram Terra Botanica 	Hauts-de-Saint-Aubin (250 places) - boulevard Jac
 queline Auriol - station tram Verneau 	Roseraie (180 places) - angle de la
  rue Tardat-dâ€™Arbrissel Ã  Angers - station tram Angers-Roseraie 	La Bar
 re (200 places) - boulevard Victor Beaussier - station tram La Barre 	Mont
 aigne (90 places) - rue Saint-ExupÃ©ry - station tram Montaigne \n\nTrouve
 r une aire de covoiturage\n\nTransport Â \n\n 	ArrÃªt le Quai : lignes 2, 
 5, 3, 7, 33, 34, 35, 36, 37, 38 	ArrÃªt gare Papin : lignes 8, 20, 21, 22,
  Tbus 	ArrÃªt les Gares : lignes A et 4 	ArrÃªt Gare SÃ©mard : ligne 39 	A
 rrÃªt Quinconce : ligne 8 	ArrÃªt Palais des Justices : lignes 2, 4, 11, 2
 3, 24, 30, 31, 32 	ArrÃªt Berges de Maine (Vers AvrillÃ©-Ardenne) : ligne 
 A \n\nConsulter le site Irigo\n\nPistes cyclables Â \n\n 	Pistes cyclables
  dans la ville \n\nTrouver une piste cyclable
LOCATION:
DTSTAMP:20240522T090752Z
DTSTART:20240528T161000Z
DTEND:20240528T173000Z
END:VEVENT
END:VCALENDAR