BEGIN:VCALENDAR
VERSION:2.0
PRODID:https://github.com/derhansen/sf_event_mgt
METHOD:PUBLISH
BEGIN:VEVENT
UID:11698-609@www.maine-et-loire.fr
CLASS: PUBLIC
SUMMARY:Le passage de la flamme olympique Ã  BaugÃ©-en-Anjou
DESCRIPTION:Le 28 mai 2024, le DÃ©partement de Maine-et-Loire, labellisÃ© Â
 « Terre de Jeux 2024 Â» et lieu dâ€™entraÃ®nement de plusieurs fÃ©dÃ©ratio
 ns internationales dâ€™Ã©quitation et de tennis de table reÃ§oit pendant u
 ne journÃ©e la flamme olympique. Elle traversera le Maine-et-Loire en 7 Ã©
 tapes mettant en valeur le patrimoine sportif et historique de notre terri
 toire.\n\nCâ€™est Ã  BaugÃ©-en-Anjou que le parcours olympique dÃ©butera. 
 Le cortÃ¨ge longera les sites patrimoniaux incontournables de la commune, 
 de lâ€™HÃ´tel-Dieu et sa grande apothicairerie au chÃ¢teau de BaugÃ©, en p
 assant par lâ€™ancien tribunal â€“ et futur Maison du citoyen connectÃ© â€
 “ actuellement en pleine transformation.\n\nLongueur de lâ€™Ã©tape : 2,6 k
 m\n\nPassage de la flamme : Ã  partir de 8h30\n\n\n\nVillage d'animations,
  de 9h Ã  13h â€“ place de lâ€™Europe\n\nActivitÃ©s sportives en continu Â
  \n\n 	Parasport : escape game, parcours motricitÃ© 	Escalade 	Parkour 	Tu
 mbling 	Badminton 	Tennis 	Football (3x3 et 5x5) 	Handball 	Sport santÃ© (
 marche nordique, Ã©quilibre) 	Initiation au golf \n\nAnimations culturelle
 s Â \n\n 	Cirque avec le duo Kaos et son spectacle Time to loop Ã  11h30 e
 t 11h55 	Fanfare avec Big Joanna Ã  9h45, 11h et 12h15 	Expo photo Ã€ vos 
 marques, prÃªtsâ€¦ DÃ©calez ! 	Expo Â« Ã‡a roule, la boule de fort dâ€™hie
 r et dâ€™aujourdâ€™hui Â» au chÃ¢teau 	Exposition Â« France Olympique, les
  bleus dans les jeux de 1896 Ã  2024 Â» et Â« Terre de jeux Â» 	Animations
  Micro-Folie 	Visite du chÃ¢teau et de l'HÃ´tel-Dieu \n\nRestauration Â \n
 \n 	Foodtrucks \n\nAires de covoiturage Â \n\n 	Aire de covoiturage du Sup
 er U BaugÃ©, 20 rue Florent Papin, 49150 BaugÃ©-en-Anjou (14 min Ã  pied d
 e la place de lâ€™Europe) \n\nTrouver une aire de covoiturage\n\nTransport
  Â \n\n 	Bus ALEOP ligne 402-B - arrÃªt les BrisÃ©es BaugÃ© en-Anjou puis 
 environ 10 min de marche jusquâ€™Ã  la place de lâ€™Europe 	Bus ALEOP lign
 e 26 - arrÃªt Centre travaux nord BaugÃ©-en-Anjou puis environ 12 min de m
 arche jusquâ€™Ã  la place de lâ€™Europe 	TER14 / TER / TER 19 / TER \n\nCo
 nsulter le site AlÃ©op\n\nConsulter le site SNCF\n\nPistes cyclables Â \n\
 n 	V44 rejoint l'EV6 et La Loire Ã  vÃ©lo (allant vers le Lude et la FlÃ¨c
 he) \n\nTrouver une piste cyclable
LOCATION:
DTSTAMP:20240522T091740Z
DTSTART:20240528T063000Z
DTEND:20240528T110000Z
END:VEVENT
END:VCALENDAR