BEGIN:VCALENDAR
VERSION:2.0
PRODID:https://github.com/derhansen/sf_event_mgt
METHOD:PUBLISH
BEGIN:VEVENT
UID:11701-609@www.maine-et-loire.fr
CLASS: PUBLIC
SUMMARY:Le passage de la flamme olympique Ã  Chaudefonds-sur-Layon
DESCRIPTION:Le 28 mai 2024, le DÃ©partement de Maine-et-Loire, labellisÃ© Â
 « Terre de Jeux 2024 Â» et lieu dâ€™entraÃ®nement de plusieurs fÃ©dÃ©ratio
 ns internationales dâ€™Ã©quitation et de tennis de table reÃ§oit pendant u
 ne journÃ©e la flamme olympique. Elle traversera le Maine-et-Loire en 7 Ã©
 tapes mettant en valeur le patrimoine sportif et historique de notre terri
 toire.\n\nLes porteurs de la flamme traverseront les parcelles de vignes d
 es Coteaux du Layon qui font la rÃ©putation viticole de lâ€™Anjou.\n\nLong
 ueur de lâ€™Ã©tape : 1,1 km\n\nPassage de la flamme : Ã  partir de 12h30\n
 \n\n\nVillage d'animations de 12h Ã  16h â€“ salle communale, en extÃ©rieu
 r au bord du Layon et rue de la Poste au niveau de la Mairie\n\nActivitÃ©s
  sportives en continu Â \n\n 	Basket fauteuil, cÃ©cifoot, foot amputÃ© 	Sp
 orts adaptÃ©s Ã  tous Ã¢ges 	RandonnÃ©e d'orientation 	Paddle, canoÃ«, kay
 ak sur le Layon 	DÃ©monstration de parapente 	Boxe, self dÃ©fense, fit box
 ing 	Renforcement musculaire (Mouv Roc) 	Casque de rÃ©alitÃ© virtuelle 	Ac
 tivitÃ©s avec des jeux vidÃ©os d'hier et d'aujourd'hui, e-games \n\nAnimat
 ions culturelles Â \n\n 	Fanfare Mouv'n Brass Ã  13h15 	Cirque aÃ©rien ave
 c la Cie CabÃ©cÃ©o Ã  15h30 	Balade dans le petit train des vignes 	Magici
 en 	Expo photo Ã€ vos marques, prÃªtsâ€¦ DÃ©calez ! \n\nRestauration Â \n\
 n 	Foodtrucks, stands vignerons \n\nAires de covoiturage\n\nTrouver une ai
 re de covoiturage\n\nTransport Â \n\n 	Bus AlÃ©op ligne 423 - arrÃªt Chaud
 efonds-sur-Layon Centre + 2 min de marche \n\nConsulter le site AlÃ©op\n\n
 Pistes cyclables Â \n\n 	Voie douce longeant le Louet \n\nTrouver une pist
 e cyclable
LOCATION:
DTSTAMP:20240522T091323Z
DTSTART:20240528T102000Z
DTEND:20240528T140000Z
END:VEVENT
END:VCALENDAR