BEGIN:VCALENDAR
VERSION:2.0
PRODID:https://github.com/derhansen/sf_event_mgt
METHOD:PUBLISH
BEGIN:VEVENT
UID:11702-609@www.maine-et-loire.fr
CLASS: PUBLIC
SUMMARY:Le passage de la flamme olympique Ã  La Romagne
DESCRIPTION:Le 28 mai 2024, le DÃ©partement de Maine-et-Loire, labellisÃ© Â
 « Terre de Jeux 2024 Â» et lieu dâ€™entraÃ®nement de plusieurs fÃ©dÃ©ratio
 ns internationales dâ€™Ã©quitation et de tennis de table reÃ§oit pendant u
 ne journÃ©e la flamme olympique. Elle traversera le Maine-et-Loire en 7 Ã©
 tapes mettant en valeur le patrimoine sportif et historique de notre terri
 toire.\n\nLa Stella, labellisÃ© Centre de prÃ©paration en tennis de table,
  sera le point d'arrivÃ©e d'un parcours divisÃ© en deux boucles.\n\nPartic
 ularitÃ© de lâ€™Ã©tape : elle comportera un relais collectif composÃ© de n
 ombreuses personnalitÃ©s de la discipline, dont le meneur Patrick Chila, m
 Ã©daillÃ© de bronze en double aux JO de Sydney.\n\nLongueur de lâ€™Ã©tape 
 : 3,17 km\n\nPassage de la flamme : Ã  partir de 15h05\n\n\n\nVillage d'an
 imations, de 14h Ã  18h â€“ Complexe sportif RenÃ© Hervouet et salle La St
 ella tennis de table\n\nActivitÃ©s sportives en continu Â \n\n 	Initiation
 , animation et dÃ©dicaces autour du tennis de table par la FÃ©dÃ©ration fr
 anÃ§aise de tennis de table 	Tir Ã  l'arc avec le Tir Ã  l'arc choletais 	
 Badminton et badminton fauteuil avec les pros du Badminton associatif chol
 etais 	Basket 3x3 avec le comitÃ© dÃ©partemental de basket 	E-pong par les
  Loups d'Angers 	Exposition jouable de jeux vidÃ©o sportifs d'hier et d'au
 jourd'hui par 2lives 	CÃ©cifoot par l'Entente sportive La Romagne-Roussay 
 	Intervention du 2e RÃ©giment de Dragons, spÃ©cialitÃ© NuclÃ©aire radiolog
 ique biologique chimique \n\nAnimations culturelles Â \n\n 	Fanfare avec l
 e trio ZalataÃ¯ Ã  16h et 17h 	Cirque aÃ©rien avec Camille Judic Ã  14h30 
 	Ateliers de crÃ©ation et d'initiation autour du costume avec l'associatio
 n Des aiguilles et des costumes 	Expo photo Ã€ vos marques, prÃªtsâ€¦ DÃ©c
 alez ! \n\nAires de covoiturage\n\nTrouver une aire de covoiturage\n\nTran
 sport Â \n\n 	Bus AlÃ©op ligne 10 - arrÃªt Gare routiÃ¨re + 7 min de march
 e \n\nConsulter le site AlÃ©op\n\nPistes cyclables\n\nTrouver une piste cy
 clable
LOCATION:
DTSTAMP:20240522T100408Z
DTSTART:20240528T130500Z
DTEND:20240528T160000Z
END:VEVENT
END:VCALENDAR