BEGIN:VCALENDAR
VERSION:2.0
PRODID:https://github.com/derhansen/sf_event_mgt
METHOD:PUBLISH
BEGIN:VEVENT
UID:11700-609@www.maine-et-loire.fr
CLASS: PUBLIC
SUMMARY:Le passage de la flamme olympique au Lion-dâ€™Angers
DESCRIPTION:Le 28 mai 2024, le DÃ©partement de Maine-et-Loire, labellisÃ© Â
 « Terre de Jeux 2024 Â» et lieu dâ€™entraÃ®nement de plusieurs fÃ©dÃ©ratio
 ns internationales dâ€™Ã©quitation et de tennis de table reÃ§oit pendant u
 ne journÃ©e la flamme olympique. Elle traversera le Maine-et-Loire en 7 Ã©
 tapes mettant en valeur le patrimoine sportif et historique de notre terri
 toire.\n\nLe Lion-dâ€™Angers verra passer le cortÃ¨ge au fil dâ€™un parcou
 rs qui dÃ©marrera du complexe sportif Lucien-MÃ©rignac, pour rejoindre, vi
 a le quai dâ€™Anjou, lâ€™hippodrome de lâ€™Isle-Briand, haut lieu de compÃ
 ©titions dâ€™Ã©quitation, thÃ©Ã¢tre du populaire Mondial du Lion et centre
  de prÃ©paration labellisÃ© pour les JOP 2024.\n\nLongueur de lâ€™Ã©tape :
  3,59 km\n\nPassage de la flamme : Ã  partir de 10h55\n\n\n\nVillage d'ani
 mations, de 10h Ã  16h â€“ parc dÃ©partemental de lâ€™Isle-Briand\n\nActiv
 itÃ©s sportives, de 11h Ã  15h Â \n\n 	Handisport : handbike, tir Ã  l'arc
  et parcours fauteuil 	AthlÃ©tisme : saut, lancer et courses 	RandonnÃ©e p
 Ã©destre 	Tipong : variante rÃ©cente du tennis de table 	Basket 3x3 \n\nAn
 imations culturelles Â \n\n 	Fanfare Green Line Marching Band Ã  11h55 et 
 Ã  14h20 	DÃ©couverte des Ã©cuyers du Cadre noir de Saumur Ã  12h45 	Spect
 acle participatif de danse et chant Superbe(s) Ã  13h 	Expo photo Ã€ vos m
 arques, prÃªtsâ€¦ DÃ©calez ! \n\nRestauration Â \n\n 	Foodtruck 	Stands de
  crÃ©ateurs et producteurs locaux \n\nParking Â \n\n 	Parking de la Haute 
 Folie en face de lâ€™entrÃ©e du parc de lâ€™Isle-Briand au Lion-dâ€™Angers
  \n\nAires de covoiturage Â \n\n 	Aire Roche aux FÃ©es - route de SegrÃ© (
 environ 32min de marche) 	Aire de Durval - route de Vern (environ 35 min d
 e marche) 	Aire de la Grange (environ 50 min de marche) \n\nTrouver une ai
 re de covoiturage\n\nTransport Â \n\n 	Bus AlÃ©op ligne 101-AD - arrÃªt Ch
 amps de Foire + 23 min de marche 	Bus AlÃ©op ligne 401 - arrÃªt Champs de 
 Foire + 23 min de marche ou arrÃªt CimetiÃ¨re + 22 min de marche 	Bus AlÃ©
 op ligne 401B - arrÃªt Champs de Foire + 23 min de marche 	Bus AlÃ©op lign
 e 101 - arrÃªt Champs de Foire + 23 min marche \n\nConsulter le site AlÃ©o
 p\n\nPistes cyclables Â \n\n 	Voie verte (partant de Angers passant par Av
 rillÃ©, Montreuil-JuignÃ©, PruillÃ©, Grez-Neuville) \n\nTrouver une piste 
 cyclable\n\nEn attendant le passage de la flamme Â \n\n 	Mlle Orchestra (m
 usiciennes dÃ©jantÃ©es), place du champ de foire, dÃ¨s 9h45 	Ã‡a va Valser
  (accordÃ©ons sur bitume), place Jean XXIII, dÃ¨s 9h45 	DÃ©ambulation de c
 rÃ©atures gÃ©antes, route du Vern, dÃ¨s 10h15 	Collectif Protocole (joyeux
  jongleurs), pont de l'Oudon Ã  11h puis jusqu'au parc dÃ©partemental de l
 'Isle-Briand Ã  11h35 
LOCATION:
DTSTAMP:20240522T091109Z
DTSTART:20240528T085500Z
DTEND:20240528T140000Z
END:VEVENT
END:VCALENDAR