BEGIN:VCALENDAR
VERSION:2.0
PRODID:https://github.com/derhansen/sf_event_mgt
METHOD:PUBLISH
BEGIN:VEVENT
UID:14911-611@www.maine-et-loire.fr
CLASS: PUBLIC
SUMMARY:Le paysage des ArdoisiÃ¨res
DESCRIPTION:Dans le cadre des Rendez-vous nature 2026.\n\nLors dâ€™une bala
 de avec un paysagiste de Sicle, venez en famille emprunter son regard et d
 Ã©couvrir le paysage atypique des ArdoisiÃ¨res. Ensemble, nous allons pren
 dre le temps dâ€™observer ce site remarquable, son sol, ses ardoises et sa
  vÃ©gÃ©tation spontanÃ©e et profiter de la vue panoramique depuis le terri
 l de NapolÃ©on. Croquis de paysage ou dessins collectifs, Å“uvres Ã©phÃ©mÃ
 ¨res en ardoisesâ€¦ Un moment convivial et dâ€™Ã©changes avec un goÃ»ter e
 st prÃ©vu.
LOCATION:Parking de lâ€™Arena Loire
DTSTAMP:20260209T154642Z
DTSTART:20261021T115540Z
DTEND:20261021T115540Z
END:VEVENT
END:VCALENDAR