BEGIN:VCALENDAR
VERSION:2.0
PRODID:https://github.com/derhansen/sf_event_mgt
METHOD:PUBLISH
BEGIN:VEVENT
UID:15122-569@www.maine-et-loire.fr
CLASS: PUBLIC
SUMMARY:Le plein de super – La Boîte Carrée
DESCRIPTION:Ce cinéma de plein air revient nous faire découvrir un specta
 cle toujours rempli de poésie, d'amour, de rire et d'émotion recueillis 
 à travers le monde.\n\nN'oubliez pas vos plaids et cartes postales, prix 
 du public !
LOCATION:Jeudi 23 à Pruillé, place de la Fontaine
Vendredi 24 à La Membrolle,  place de l’Eglise
Samedi 25 à La Meignanne, place de l’Eglise.
DTSTAMP:20260220T141805Z
DTSTART:20260722T220000Z
DTEND:20260724T220000Z
END:VEVENT
END:VCALENDAR