BEGIN:VCALENDAR
VERSION:2.0
PRODID:https://github.com/derhansen/sf_event_mgt
METHOD:PUBLISH
BEGIN:VEVENT
UID:13215-569@www.maine-et-loire.fr
CLASS: PUBLIC
SUMMARY:Le Printemps des Entreprises
DESCRIPTION:Événement organisé conjointement par la CCI de Maine-et-Loir
 e, le MEDEF Anjou, le MEDEF Choletais, la CPME49, l’UIMM49 et la FFB49. 
 Son objectif est de rassembler des entrepreneurs, des professionnels et de
 s acteurs du monde économique autour de 3 thématiques majeures pour le d
 éveloppement de l’entreprise : écologie, numérique et ressources huma
 ines. C’est un temps pour partager des idées, des expériences et déco
 uvrir de nouvelles opportunités.\n\n 	Transition écologique : Des animat
 ions sur l’écoconception, l’économie circulaire et le bilan carbone.
  Deux ateliers ludiques aideront à décrypter la RSE pour clarifier et pr
 ioriser ses actions. 	Transition numérique : Tester ses connaissances sur
  la cybersécurité en participant à un escape game. Des ateliers permett
 ront d’aborder des réflexions autour de la cybersécurité, l’IA, les
  chatbots intelligents et ChatGPT, le financement de sa transition numéri
 que, l’acculturation des collaborateurs au numérique ou encore comment 
 réduire l’impact numérique de ses équipements. 	Transition ressources
  humaines : Lever le voile sur les leviers de l’employabilité et la fid
 élisation des collaborateurs ainsi que sur l’attractivité et le recrut
 ement. Les thématiques sur les nouvelles attentes au travail et l‘adapt
 ation à une nouvelle culture d’entreprise seront abordées sous forme d
 e saynètes théâtrales interactives avec deux représentations. 
LOCATION:ESSCA - Campus d'Angers
1 Rue Joseph Lakanal
DTSTAMP:20250320T105207Z
DTSTART:20250402T220000Z
DTEND:20250402T220000Z
END:VEVENT
END:VCALENDAR