BEGIN:VCALENDAR
VERSION:2.0
PRODID:https://github.com/derhansen/sf_event_mgt
METHOD:PUBLISH
BEGIN:VEVENT
UID:14827-611@www.maine-et-loire.fr
CLASS: PUBLIC
SUMMARY:Le rôle des plantes aquatiques
DESCRIPTION:Dans le cadre des Rendez-vous nature 2026.\n\nPartez sur l'île
  Saint-Aubin pour découvrir les plantes d’eau, leur reproduction, leur 
 rôle pour la biodiversité et leur pouvoir purifiant… puis savourez une
  délicieuse tisane artisanale
LOCATION:Chemin Bas d'Epinard, Grand Platane à coté de l'auberge du Port
DTSTAMP:20260209T153650Z
DTSTART:20260724T115539Z
DTEND:20260724T115539Z
END:VEVENT
END:VCALENDAR