BEGIN:VCALENDAR
VERSION:2.0
PRODID:https://github.com/derhansen/sf_event_mgt
METHOD:PUBLISH
BEGIN:VEVENT
UID:14730-611@www.maine-et-loire.fr
CLASS: PUBLIC
SUMMARY:Le végétal en bord d'eau
DESCRIPTION:Dans le cadre des Rendez-vous nature 2026.\n\nLors d’une bala
 de avec un paysagiste de Sicle, venez en famille emprunter son regard, exp
 érimenter ses pratiques techniques et artistiques pour découvrir la vég
 étation de bord d’eau. Prenez un temps pour créer des œuvres à parti
 r d’empreintes végétales. Un moment convivial et d’échanges avec un
  goûter est prévu.
LOCATION:Esplanade du Lac de Maine
DTSTAMP:20260209T152435Z
DTSTART:20260523T115539Z
DTEND:20260523T115539Z
END:VEVENT
END:VCALENDAR