BEGIN:VCALENDAR
VERSION:2.0
PRODID:https://github.com/derhansen/sf_event_mgt
METHOD:PUBLISH
BEGIN:VEVENT
UID:15320-569@www.maine-et-loire.fr
CLASS: PUBLIC
SUMMARY:Le Vent n’a pas de valise
DESCRIPTION:Paolo Cardona, artiste italien installé en Maine-et-Loire, est
  sensible à la place des hommes dans un monde en transformation, qu’il 
 traite par des métaphores végétales ou en sollicitant les souvenirs. So
 n œuvre évoque le déplacement, l’arrachement, les racines, l’enraci
 nement.\n\nIl retouche des photographies par grattage, insérant là les r
 amures d’un arbre disparu, remplaçant au passage une essence par une au
 tre, utilisant l’exotisme d’une greffe végétale pour souligner l’h
 omme qui, parti de chez lui, cherche à s’enraciner ailleurs.\n\nPaolo C
 ardona illustre aussi le thème du départ par de nombreux dessins, au sty
 lo Bic, questionnant ce que l’on veut conserver avec soi de sa vie d’a
 vant. Car, si le vent n’a pas de valise, les humains qui se déplacent, 
 déménageant ou fuyant précipitamment un endroit, se chargent, eux, d’
 objets mémoriels, de souvenirs d’un monde perdu, d’outils utiles à e
 n bâtir un nouveau.\n\nLe voyage et l’errance est aussi un thème cher 
 à l’artiste, qui a ainsi rempli des carnets de dessins de lits, défait
 s, sorte d’allégorie de l’endroit où l’on se pose, se repose, lieu
  d’une courte étape avant de reprendre son chemin.\n\nPaolo Cardona a, 
 par ailleurs, choisi quelques œuvres des collections du musée d’Art et
  d’histoire de Baugé qui lui permettaient de tisser un dialogue avec ce
 rtaines de ses propres créations.\n\nSon travail, d’une grande sensibil
 ité, résonne puissamment, mais par une subtile poésie, avec un monde ma
 rqué par les migrations, les guerres, les mutations environnementales.
LOCATION:Château de Baugé
Place de l'Europe
DTSTAMP:20260422T081640Z
DTSTART:20260417T220000Z
DTEND:20261031T230000Z
END:VEVENT
END:VCALENDAR