BEGIN:VCALENDAR
VERSION:2.0
PRODID:https://github.com/derhansen/sf_event_mgt
METHOD:PUBLISH
BEGIN:VEVENT
UID:14928-569@www.maine-et-loire.fr
CLASS: PUBLIC
SUMMARY:Le week-end des Projets Nature
DESCRIPTION:Découvrez les actions de conservation de la nature soutenues p
 ar le Bioparc et rencontrez des ONG qui les portent à travers le monde.
LOCATION:Bioparc de Doué-la-Fontaine
103 Rue de Cholet
DTSTAMP:20260122T085022Z
DTSTART:20260731T220000Z
DTEND:20260801T220000Z
END:VEVENT
END:VCALENDAR