BEGIN:VCALENDAR
VERSION:2.0
PRODID:https://github.com/derhansen/sf_event_mgt
METHOD:PUBLISH
BEGIN:VEVENT
UID:15065-1587@www.maine-et-loire.fr
CLASS: PUBLIC
SUMMARY:L'édition jeunesse accessible en fête !
DESCRIPTION:Temps fort dédié à l'accessibilité des collections jeunesse
  en bibliothèque. A cette occasion, les bibliothèques partenaires propos
 ent un riche programme d'événements et de sensibilisation autour du hand
 icap et des livres adaptés. Contes et lectures inclusives, spectacles acc
 essibles, jeux adaptés, conférences, médiations animales... sont de la 
 partie.
LOCATION:selon programme à venir
DTSTAMP:20260203T140009Z
DTSTART:20261121T130000Z
DTEND:20261128T170000Z
END:VEVENT
END:VCALENDAR