BEGIN:VCALENDAR
VERSION:2.0
PRODID:https://github.com/derhansen/sf_event_mgt
METHOD:PUBLISH
BEGIN:VEVENT
UID:14940-569@www.maine-et-loire.fr
CLASS: PUBLIC
SUMMARY:LÃ©gumes perpÃ©tuels & pratiques culturales au potager
DESCRIPTION:Animation 123 jardin ! de l'association Horizon Bocage\n\nVenez
  dÃ©couvrir les lÃ©gumes perpÃ©tuels dans le jardin dâ€™un passionnÃ©\n\nA
 u programmeÂ : DÃ©couverte des lÃ©gumes perpÃ©tuels, intÃ©gration dans lâ€
 ™alimentation, culture, et pratiques culturales au potager.
LOCATION:Valanjou (lieu prÃ©cisÃ© ultÃ©rieurement)
DTSTAMP:20260122T130143Z
DTSTART:20260612T220000Z
DTEND:20260612T220000Z
END:VEVENT
END:VCALENDAR