BEGIN:VCALENDAR
VERSION:2.0
PRODID:https://github.com/derhansen/sf_event_mgt
METHOD:PUBLISH
BEGIN:VEVENT
UID:14742-611@www.maine-et-loire.fr
CLASS: PUBLIC
SUMMARY:L'emblème des Basses vallées
DESCRIPTION:Dans le cadre des Rendez-vous nature 2026.\n\nAlors que le sole
 il commence tout juste à se coucher, les Basses vallées angevines s'anim
 ent. Découvrez les espèces nocturnes de ces prairies et peut-être aurez
 -vous la chance d'entendre l'emblème de ce milieu, le Râle des genêts.
LOCATION:Le vieux Cantenay
DTSTAMP:20260209T152541Z
DTSTART:20260529T115539Z
DTEND:20260529T115539Z
END:VEVENT
END:VCALENDAR