BEGIN:VCALENDAR
VERSION:2.0
PRODID:https://github.com/derhansen/sf_event_mgt
METHOD:PUBLISH
BEGIN:VEVENT
UID:14771-611@www.maine-et-loire.fr
CLASS: PUBLIC
SUMMARY:L'entrelacs buissonnier
DESCRIPTION:Dans le cadre des Rendez-vous nature 2026.\n\nLors de cet ateli
 er en deux temps, il vous sera proposé une courte balade pour découvrir 
 les plantes sauvages utilisables en vannerie et tissage buissonnier. Puis,
  vous pourrez vous initier au tressage et repartir avec votre création. L
 e groupe sera séparé en deux afin de permettre un échange plus privilé
 gié. Une partie balade, repérage et glanage de matériel végétal et un
 e partie mise en pratique avec réalisation d’une vannerie simple. Les g
 roupes seront intervertis en cours d’animation.
LOCATION:La Monnière
1574 route des Landes
DTSTAMP:20260209T152851Z
DTSTART:20260606T115539Z
DTEND:20260606T115539Z
END:VEVENT
END:VCALENDAR