BEGIN:VCALENDAR
VERSION:2.0
PRODID:https://github.com/derhansen/sf_event_mgt
METHOD:PUBLISH
BEGIN:VEVENT
UID:14779-611@www.maine-et-loire.fr
CLASS: PUBLIC
SUMMARY:L'épopée du bois
DESCRIPTION:Dans le cadre des Rendez-vous nature 2026.\n\nÀ l'occasion des
  Nuits des forêts, découvrez l’épopée du bois. Saviez-vous que les m
 eubles qui peuplent votre maison ont une histoire fascinante qui commence 
 bien avant d'arriver chez vous ? Venez avec nous en forêt et découvrez c
 omment le bois prend vie, entre nature et savoir-faire humain. Au cours de
  cette animation, vous apprendrez comment un simple arbre se transforme en
  un matériau précieux, qu'il soit destiné à fabriquer des meubles, des
  tonneaux pour le vin ou même des piquets pour délimiter les pâturages.
  Chaque étape de cette transformation, de la coupe à l’usinage, n’au
 ra plus de secret pour vous. Vous verrez aussi comment le bois, dans sa fo
 rmation et son utilisation, joue un rôle clé pour notre environnement et
  améliore notre quotidien de façon insoupçonnée. Une immersion qui vou
 s fera redécouvrir la forêt et ce qu'elle a à nous offrir !\n\nPrévoir
  chaussures de marche et vêtements adaptés à la météo.
LOCATION:Carrefour du Roi René
Le Guédeniau
DTSTAMP:20260209T153143Z
DTSTART:20260613T115539Z
DTEND:20260613T115539Z
END:VEVENT
END:VCALENDAR