BEGIN:VCALENDAR
VERSION:2.0
PRODID:https://github.com/derhansen/sf_event_mgt
METHOD:PUBLISH
BEGIN:VEVENT
UID:14809-611@www.maine-et-loire.fr
CLASS: PUBLIC
SUMMARY:Les ailes de la nuit
DESCRIPTION:Dans le cadre des Rendez-vous nature 2026.\n\nLa nuit tombée s
 ur le site militaire des Hauts de Terrefort, de nouvelles espèces sortent
  le bout de leurs nez. Des petits papillons de nuit poursuivent la pollini
 sation des plantes alentours, déjouant la chasse de haute voltige que mè
 ne les chauve-souris. Dans cette relation proie-prédateur, ces espèces o
 nt su élaborer des stratagèmes efficaces pour profiter de la nuit. Accom
 pagnés de d'une experte naturaliste, venez découvrir ces animaux méconn
 us mais au combien importants au coeur de la nuit. L'occasion de les obser
 ver de près ou en vol, de les identifier et de comprendre leur relations.
LOCATION:Parking rue roger Tarjon
DTSTAMP:20260209T153441Z
DTSTART:20260710T115539Z
DTEND:20260710T115539Z
END:VEVENT
END:VCALENDAR