BEGIN:VCALENDAR
VERSION:2.0
PRODID:https://github.com/derhansen/sf_event_mgt
METHOD:PUBLISH
BEGIN:VEVENT
UID:14687-611@www.maine-et-loire.fr
CLASS: PUBLIC
SUMMARY:Les animaux de la rivière
DESCRIPTION:Dans le cadre des Rendez-vous nature 2026.\n\nDécouvrez la ric
 hesse des milieux aquatiques à la Maison Pêche Nature ! Suite à la visi
 te des aquariums, les poissons d'eau douce n'auront plus de secrets pour v
 ous. Vous partirez ensuite explorer la mare à l'aide d'une épuisette. Au
 rez-vous la chance d'observer larves, dytiques et autres petites bêtes ?\
 n\nLes enfants doivent obligatoirement être accompagnés par un adulte. P
 révoir une paire de bottes.
LOCATION:Maison Pêche Nature
DTSTAMP:20260209T151109Z
DTSTART:20260421T115539Z
DTEND:20260421T115539Z
END:VEVENT
END:VCALENDAR