BEGIN:VCALENDAR
VERSION:2.0
PRODID:https://github.com/derhansen/sf_event_mgt
METHOD:PUBLISH
BEGIN:VEVENT
UID:14832-611@www.maine-et-loire.fr
CLASS: PUBLIC
SUMMARY:Les animaux de la rivière
DESCRIPTION:Dans le cadre des Rendez-vous nature 2026.\n\nDécouvrez la ric
 hesse de nos milieux aquatiques à la Maison Pêche Nature ! Suite à la v
 isite des aquariums, les poissons d'eau douce n'auront plus de secrets pou
 r vous. Vous partirez ensuite explorer la mare à l'aide d'une épuisette.
  Aurez-vous la chance d'observer larves, dytiques et autres petites bêtes
  ?\n\nLes enfants doivent obligatoirement être accompagnés par un adulte
 .
LOCATION:Maison Pêche Nature
DTSTAMP:20260209T153720Z
DTSTART:20260804T115539Z
DTEND:20260804T115539Z
END:VEVENT
END:VCALENDAR