BEGIN:VCALENDAR
VERSION:2.0
PRODID:https://github.com/derhansen/sf_event_mgt
METHOD:PUBLISH
BEGIN:VEVENT
UID:14926-611@www.maine-et-loire.fr
CLASS: PUBLIC
SUMMARY:Les arbres Ã  lâ€™heure dâ€™hiver
DESCRIPTION:Dans le cadre des Rendez-vous nature 2026.\n\nPlongez au cÅ“ur 
 de la nature lors de cette sortie ouverte Ã  tous et Ã  toutes, une vÃ©rit
 able immersion parmi les arbres pour dÃ©couvrir leurs incroyables capacitÃ
 ©s ! Vous observerez les arbres faire face Ã  la rigueur de lâ€™hiver et d
 Ã©couvrirez comment ils sâ€™adaptent pour y survivre. DÃ©pourvus de feuill
 es et de fruits, vous vous entrainerez Ã  les reconnaÃ®tre Ã  travers lâ€™
 observation de leur Ã©corce, de leur forme et de leurs bourgeons. Chaque e
 ssence rencontrÃ©e sera lâ€™occasion dâ€™Ã©changer sur ses propriÃ©tÃ©s, s
 es usages traditionnels et ses particularitÃ©s, dans une ambiance convivia
 le et enrichissante. DÃ©couvrez Ã©galement l'importance dâ€™agir en faveur
  de leur prÃ©servation. Cette expÃ©rience sensorielle invite chaque partic
 ipant Ã  poser un regard neuf sur ces arbres et, plus encore, Ã  trouver l
 â€™inspiration pour agir concrÃ¨tement en leur faveur. Une aventure enrich
 issante qui Ã©veillera votre curiositÃ© et votre engagement pour la nature
  !
LOCATION:La Croix de Joreau
DTSTAMP:20260209T154805Z
DTSTART:20261212T125540Z
DTEND:20261212T125540Z
END:VEVENT
END:VCALENDAR