BEGIN:VCALENDAR
VERSION:2.0
PRODID:https://github.com/derhansen/sf_event_mgt
METHOD:PUBLISH
BEGIN:VEVENT
UID:14792-611@www.maine-et-loire.fr
CLASS: PUBLIC
SUMMARY:Les arbres au cÅ“ur de lâ€™Ã©tÃ©
DESCRIPTION:Dans le cadre des Rendez-vous nature 2026.\n\nPlongez au cÅ“ur 
 de la nature lors de cette sortie ouverte Ã  tous, une vÃ©ritable immersio
 n parmi les arbres pour dÃ©couvrir leurs incroyables capacitÃ©s ! Ensemble
 , dÃ©couvrez les arbres en pleine saison de fructification. Le moment idÃ©
 al pour observer les feuilles Ã©panouies, la fin de la floraison et la for
 mation des fruits. Par la collecte de ces diffÃ©rents Ã©lÃ©ments, et grÃ¢c
 e au matÃ©riel fourni, vous pourrez constituer un herbier forestier person
 nalisÃ©Â ! Chaque essence rencontrÃ©e sera lâ€™occasion dâ€™Ã©changer sur 
 ses propriÃ©tÃ©s, ses usages traditionnels et ses particularitÃ©s, dans un
 e ambiance conviviale et enrichissante. Vous dÃ©couvrireez l'importance dâ
 €™agir en faveur de leur prÃ©servation. Cette expÃ©rience sensorielle invi
 te chaque participant Ã  poser un regard neuf sur ces arbres et, plus enco
 re, Ã  trouver lâ€™inspiration pour agir concrÃ¨tement en leur faveur. Une
  aventure enrichissante qui Ã©veillera votre curiositÃ© et votre engagemen
 t pour la nature !Â 
LOCATION:Lieu communiquÃ© Ã  l'inscription
DTSTAMP:20260216T142543Z
DTSTART:20260627T115539Z
DTEND:20260627T115539Z
END:VEVENT
END:VCALENDAR